BEGIN:VCALENDAR
VERSION:2.0
PRODID:-//hacksw/handcal//NONSGML v1.0//EN
BEGIN:VEVENT
DTSTAMP:20170602T153000Z
DTSTART:20170602T153000Z
DTEND:20170602T153000Z
SUMMARY:LMV MIT Sachsen 2. Juni 2017
END:VEVENT
END:VCALENDAR
